BEGIN:VCALENDAR
VERSION:2.0
PRODID:-//Colégio Ipiranga - ECPv6.0.11//NONSGML v1.0//EN
CALSCALE:GREGORIAN
METHOD:PUBLISH
X-ORIGINAL-URL:http://www.colegioipiranga.com.br
X-WR-CALDESC:Eventos para Colégio Ipiranga
REFRESH-INTERVAL;VALUE=DURATION:PT1H
X-Robots-Tag:noindex
X-PUBLISHED-TTL:PT1H
BEGIN:VTIMEZONE
TZID:UTC
BEGIN:STANDARD
TZOFFSETFROM:+0000
TZOFFSETTO:+0000
TZNAME:UTC
DTSTART:20160101T000000
END:STANDARD
END:VTIMEZONE
BEGIN:VEVENT
DTSTART;TZID=UTC:20161111T193000
DTEND;TZID=UTC:20161111T220000
DTSTAMP:20260420T005739
CREATED:20161101T171059Z
LAST-MODIFIED:20161109T140651Z
UID:6899-1478892600-1478901600@www.colegioipiranga.com.br
SUMMARY:Festival de Poesias 2016
DESCRIPTION:O Festival de Poesias 2016 apresenta os 26 poemas finalistas dos alunos do 2º ano do Ensino Fundamental ao Ensino Médio. Florbela Espanca é a poeta homenageada dessa edição. \nA nova odisseia poética acontece no dia 11 de novembro\, sexta-feira\, às 19h30\, na Unidade Ambiental! \nViva a Poesia!
URL:http://www.colegioipiranga.com.br/evento/festival-de-poesias-2016/
LOCATION:Colégio Ipiranga – Ambiental\, Rua Ipiranga\, 820\, Petrópolis\, Rio de Janeiro\, Brasil
ATTACH;FMTTYPE=image/jpeg:http://www.colegioipiranga.com.br/wp-content/uploads/2016/11/cartaz-poesias.jpg
END:VEVENT
BEGIN:VEVENT
DTSTART;TZID=UTC:20161017T050000
DTEND;TZID=UTC:20161020T200000
DTSTAMP:20260420T005739
CREATED:20160909T132446Z
LAST-MODIFIED:20160909T134255Z
UID:6804-1476680400-1476993600@www.colegioipiranga.com.br
SUMMARY:Paiol - Temporada 2016
DESCRIPTION:O Colégio Ipiranga e a Eraturpe – Agência Oficial do Acampamento Paiol Grande – estão organizando\, como acontece desde 1992\, mais uma temporada no Acampamento Paiol Grande\, no período de 17 a 20 de outubro de 2016\, para os alunos dos 5os\, 6os\, 7os e 8os anos. \nLocalizado no município de São Bento do Sapucaí\, no Estado de São Paulo\, o Paiol Grande é uma instituição com 70 anos de experiência em programas de recreação\, integração e vivência de importantes valores educativos\, em um local de beleza natural ímpar\, o que proporciona aos alunos dias inesquecíveis. \nAs temporadas\, que acontecem a cada dois anos\, são coordenadas pela Diretora Sonia\, que acompanha os alunos desde a primeira\, em 1992.
URL:http://www.colegioipiranga.com.br/evento/paiol-temporada-2016/
LOCATION:Colégio Ipiranga\, Rua da Imperatriz\, 296\, Petrópolis
ATTACH;FMTTYPE=image/jpeg:http://www.colegioipiranga.com.br/wp-content/uploads/2016/09/logopaiol.jpg
END:VEVENT
BEGIN:VEVENT
DTSTART;TZID=UTC:20161016T080000
DTEND;TZID=UTC:20161016T080000
DTSTAMP:20260420T005739
CREATED:20160901T131600Z
LAST-MODIFIED:20160926T223123Z
UID:6784-1476604800-1476604800@www.colegioipiranga.com.br
SUMMARY:Encontro de Gerações - Colégio Ipiranga 50 anos!
DESCRIPTION:  \n \nO Colégio Ipiranga comemora 50 anos de Educação com o Encontro de Gerações\, que reúne entre alunos\, ex-alunos\, professores\, funcionários e amigos de todas essas décadas. A programação do evento contempla uma breve caminhada e uma confraternização na Rua da Imperatriz. \nVocê\, aluno\, professor\, ex-aluno\, pai ou mãe de aluno ou antigo funcionário: venha e traga a sua família! Vamos nos encontrar\, caminhar e celebrar juntos tantas histórias\, conquistas e amizades! \n– Inscrições a R$ 25 por pessoa (camisa fitness com proteção solar e lanche na chegada) até o dia 11 de outubro na secretaria da escola ou através de depósito na conta corrente 1301266-9\, agência 215 do Santander (enviar nomes\, tamanhos de camisa e comprovante de depósito para secretaria@localhost ou por mensagem pela nossa página do Facebook) \nMais informações e novidades no evento oficial no Facebook do colégio: https://www.facebook.com/events/1840464056183039/ \nParticipe!
URL:http://www.colegioipiranga.com.br/evento/caminhada-encontro-de-geracoes/
LOCATION:Colégio Ipiranga\, Rua da Imperatriz\, 296\, Petrópolis
END:VEVENT
END:VCALENDAR