BEGIN:VCALENDAR
VERSION:2.0
PRODID:-//Colégio Ipiranga - ECPv6.0.11//NONSGML v1.0//EN
CALSCALE:GREGORIAN
METHOD:PUBLISH
X-WR-CALNAME:Colégio Ipiranga
X-ORIGINAL-URL:http://www.colegioipiranga.com.br
X-WR-CALDESC:Eventos para Colégio Ipiranga
REFRESH-INTERVAL;VALUE=DURATION:PT1H
X-Robots-Tag:noindex
X-PUBLISHED-TTL:PT1H
BEGIN:VTIMEZONE
TZID:UTC
BEGIN:STANDARD
TZOFFSETFROM:+0000
TZOFFSETTO:+0000
TZNAME:UTC
DTSTART:20230101T000000
END:STANDARD
END:VTIMEZONE
BEGIN:VEVENT
DTSTART;TZID=UTC:20231005T153000
DTEND;TZID=UTC:20231006T153000
DTSTAMP:20260422T223951
CREATED:20230926T150352Z
LAST-MODIFIED:20230926T155147Z
UID:7875-1696519800-1696606200@www.colegioipiranga.com.br
SUMMARY:Festa dos Avós
DESCRIPTION:Queridos Avós\,\nÉ com muita alegria que queremos recebê-los mais uma vez no Colégio para comemorar o seu dia. \nAnotem na agenda:
URL:http://www.colegioipiranga.com.br/evento/festa-dos-avos/
END:VEVENT
BEGIN:VEVENT
DTSTART;TZID=UTC:20231006T140000
DTEND;TZID=UTC:20231006T170000
DTSTAMP:20260422T223951
CREATED:20230926T155217Z
LAST-MODIFIED:20230926T155555Z
UID:7890-1696600800-1696611600@www.colegioipiranga.com.br
SUMMARY:Festa dos Avós
DESCRIPTION:Queridos Avós\,\nÉ com muita alegria que queremos recebê-los mais uma vez no Colégio para comemorar o seu dia. \nAnotem na agenda:
URL:http://www.colegioipiranga.com.br/evento/festa-dos-avos-2/
END:VEVENT
BEGIN:VEVENT
DTSTART;TZID=UTC:20231026T050000
DTEND;TZID=UTC:20231029T200000
DTSTAMP:20260422T223951
CREATED:20230918T120644Z
LAST-MODIFIED:20230922T133017Z
UID:7831-1698296400-1698609600@www.colegioipiranga.com.br
SUMMARY:Acampamento Paiol
DESCRIPTION:O Colégio Ipiranga e a Agência Sementeira Cultural estão organizando\, como acontece desde 1992\, mais uma temporada no ACAMPAMENTO PAIOL GRANDE\, para o período de 26 a 29 de outubro\, para os alunos dos 5os\, 6os\, 7os e 8os anos. \nLocalizado no município de São Bento do Sapucaí\, no Estado de São Paulo\, o Paiol Grande é uma instituição com 76 anos de experiência em programas de recreação\, integração e vivência de importantes valores educativos\, em um local de beleza natural ímpar\, o que proporciona aos alunos dias inesquecíveis.
URL:http://www.colegioipiranga.com.br/evento/acampamento-paiol/
ATTACH;FMTTYPE=image/jpeg:http://www.colegioipiranga.com.br/wp-content/uploads/2023/09/Paiol.jpg
END:VEVENT
BEGIN:VEVENT
DTSTART;TZID=UTC:20231116T190000
DTEND;TZID=UTC:20231116T210000
DTSTAMP:20260422T223951
CREATED:20230918T142048Z
LAST-MODIFIED:20230922T133339Z
UID:7851-1700161200-1700168400@www.colegioipiranga.com.br
SUMMARY:Festival de Poesias
DESCRIPTION:O Festival de Poesias acontecerá no dia 16 de novembro de 2023\, às 19h\, na Unidade Ambiental (Rua Ipiranga\, 820).\nNeste evento participarão alunos de todas as séries a partir do 2º ano do Ensino Fundamental divididos em 5 categorias:\nCategoria 1 – 2º e 3º anos\nCategoria 2 – 4º e 5º anos\nCategoria 3 – 6º e 7º anos\nCategoria 4 – 8º e 9º anos\nCategoria 5 – 1ª\, 2ª e 3ª séries do Ensino Médio\nSerão premiadas as melhores poesias de cada categoria e os melhores Intérpretes.
URL:http://www.colegioipiranga.com.br/evento/festival-de-poesias/
ATTACH;FMTTYPE=image/jpeg:http://www.colegioipiranga.com.br/wp-content/uploads/2023/09/Poesias.jpg
END:VEVENT
BEGIN:VEVENT
DTSTART;TZID=UTC:20240818T080000
DTEND;TZID=UTC:20240823T170000
DTSTAMP:20260422T223951
CREATED:20240722T132023Z
LAST-MODIFIED:20240722T133314Z
UID:7906-1723968000-1724432400@www.colegioipiranga.com.br
SUMMARY:Jogos Internos 2024
DESCRIPTION:Abertura: \nDia 18 de agosto\, domingo\, no 32º Batalhão. \nLocal das competições: \nEnsino Fundamental II e Ensino Médio – Arena Petrô Sport – Rua Coronel Land\, S/Nº\, Valparaíso  – ref.: esquina com a Rua Simon Bolivar / portão do antigo campo de futebol do Petropolitano FC. \nEducação Infantil e Ensino Fundamental I – Unidade Ambiental \nHorário das competições: \nOs jogos serão realizados no horário escolar\, em datas e horários a serem divulgados posteriormente.
URL:http://www.colegioipiranga.com.br/evento/jogos-internos-2024/
END:VEVENT
BEGIN:VEVENT
DTSTART;TZID=UTC:20241113T191500
DTEND;TZID=UTC:20241113T210000
DTSTAMP:20260422T223951
CREATED:20240917T151716Z
LAST-MODIFIED:20240917T152315Z
UID:7923-1731525300-1731531600@www.colegioipiranga.com.br
SUMMARY:Festival de Poesias
DESCRIPTION:
URL:http://www.colegioipiranga.com.br/evento/festival-de-poesias-2/
END:VEVENT
BEGIN:VEVENT
DTSTART;TZID=UTC:20241128T190000
DTEND;TZID=UTC:20241128T210000
DTSTAMP:20260422T223951
CREATED:20240917T155400Z
LAST-MODIFIED:20240917T155439Z
UID:7927-1732820400-1732827600@www.colegioipiranga.com.br
SUMMARY:Formaturas 2024
DESCRIPTION:
URL:http://www.colegioipiranga.com.br/evento/formaturas-2024/
END:VEVENT
END:VCALENDAR