BEGIN:VCALENDAR
VERSION:2.0
PRODID:-//Colégio Ipiranga - ECPv6.0.11//NONSGML v1.0//EN
CALSCALE:GREGORIAN
METHOD:PUBLISH
X-WR-CALNAME:Colégio Ipiranga
X-ORIGINAL-URL:http://www.colegioipiranga.com.br
X-WR-CALDESC:Eventos para Colégio Ipiranga
REFRESH-INTERVAL;VALUE=DURATION:PT1H
X-Robots-Tag:noindex
X-PUBLISHED-TTL:PT1H
BEGIN:VTIMEZONE
TZID:UTC
BEGIN:STANDARD
TZOFFSETFROM:+0000
TZOFFSETTO:+0000
TZNAME:UTC
DTSTART:20230101T000000
END:STANDARD
END:VTIMEZONE
BEGIN:VEVENT
DTSTART;TZID=UTC:20231116T190000
DTEND;TZID=UTC:20231116T210000
DTSTAMP:20260422T103528
CREATED:20230918T142048Z
LAST-MODIFIED:20230922T133339Z
UID:7851-1700161200-1700168400@www.colegioipiranga.com.br
SUMMARY:Festival de Poesias
DESCRIPTION:O Festival de Poesias acontecerá no dia 16 de novembro de 2023\, às 19h\, na Unidade Ambiental (Rua Ipiranga\, 820).\nNeste evento participarão alunos de todas as séries a partir do 2º ano do Ensino Fundamental divididos em 5 categorias:\nCategoria 1 – 2º e 3º anos\nCategoria 2 – 4º e 5º anos\nCategoria 3 – 6º e 7º anos\nCategoria 4 – 8º e 9º anos\nCategoria 5 – 1ª\, 2ª e 3ª séries do Ensino Médio\nSerão premiadas as melhores poesias de cada categoria e os melhores Intérpretes.
URL:http://www.colegioipiranga.com.br/evento/festival-de-poesias/
ATTACH;FMTTYPE=image/jpeg:http://www.colegioipiranga.com.br/wp-content/uploads/2023/09/Poesias.jpg
END:VEVENT
END:VCALENDAR